BEGIN:VCALENDAR
VERSION:2.0
PRODID:-//Resilient East Bay - ECPv6.15.20//NONSGML v1.0//EN
CALSCALE:GREGORIAN
METHOD:PUBLISH
X-WR-CALNAME:Resilient East Bay
X-ORIGINAL-URL:https://www.resilienteastbay.org
X-WR-CALDESC:Events for Resilient East Bay
REFRESH-INTERVAL;VALUE=DURATION:PT1H
X-Robots-Tag:noindex
X-PUBLISHED-TTL:PT1H
BEGIN:VTIMEZONE
TZID:UTC
BEGIN:STANDARD
TZOFFSETFROM:+0000
TZOFFSETTO:+0000
TZNAME:UTC
DTSTART:20250101T000000
END:STANDARD
END:VTIMEZONE
BEGIN:VEVENT
DTSTART;VALUE=DATE:20260116
DTEND;VALUE=DATE:20260117
DTSTAMP:20260424T173826
CREATED:20251206T023826Z
LAST-MODIFIED:20251206T023936Z
UID:10000100-1768521600-1768607999@www.resilienteastbay.org
SUMMARY:Tour of Zoox
DESCRIPTION:East Bay EDA is excited to kick off the year with an exclusive tour of the Zoox robotaxi production facility in Hayward. Join us for this unique look into one of the East Bay’s newest and most advanced robotics manufacturing operations. Recently featured on KQED News\, this 220\,000-square-foot repurposed manufacturing facility aims to produce up to 10\,000 vehicles annually. Less than six months after launching production in Hayward\, the Amazon-owned company announced its first robotaxi service in San Francisco in November 2025. This tour will be exclusive to East Bay EDA members and partners. The tour time and registration will soon be announced.
URL:https://www.resilienteastbay.org/event/tour-of-zoox/
LOCATION:Zoox – Serial Production Facility\, 25810 Clawiter Rd\, Hayward\, CA\, 94545\, United States
ATTACH;FMTTYPE=image/jpeg:https://www.resilienteastbay.org/wp-content/uploads/251119-From-Rust-to-Robots-01-KQED.jpg
END:VEVENT
END:VCALENDAR