BEGIN:VCALENDAR
VERSION:2.0
PRODID:-//Resilient East Bay - ECPv6.15.20//NONSGML v1.0//EN
CALSCALE:GREGORIAN
METHOD:PUBLISH
X-ORIGINAL-URL:https://www.resilienteastbay.org
X-WR-CALDESC:Events for Resilient East Bay
REFRESH-INTERVAL;VALUE=DURATION:PT1H
X-Robots-Tag:noindex
X-PUBLISHED-TTL:PT1H
BEGIN:VTIMEZONE
TZID:UTC
BEGIN:STANDARD
TZOFFSETFROM:+0000
TZOFFSETTO:+0000
TZNAME:UTC
DTSTART:20250101T000000
END:STANDARD
END:VTIMEZONE
BEGIN:VEVENT
DTSTART;TZID=UTC:20260429T100000
DTEND;TZID=UTC:20260429T140000
DTSTAMP:20260425T141627
CREATED:20260424T152002Z
LAST-MODIFIED:20260424T152002Z
UID:10000114-1777456800-1777471200@www.resilienteastbay.org
SUMMARY:MI National Apprenticeship Week at Connect Hub West
DESCRIPTION:Celebrate National Apprenticeship Week with Machinists Institute and Heidenhain! \n\n\n\n\nDiscover new horizons in manufacturing and industrial trades education. \nGet a firsthand preview of the systems\, partnerships\, and pathways turning innovation into a reliable talent pipeline in Northern California. \nCelebrate new beginnings and the dedicated professionals who learn and partner with us! Explore state-of-the-art facilities with live machine demos and connect with fellow leaders at the forefront of business and workforce innovation. \nLight refreshments will be served.
URL:https://www.resilienteastbay.org/event/mi-national-apprenticeship-week-at-connect-hub-west/
LOCATION:47338 Fremont Boulevard  Fremont\, CA 94538\, 47338 Fremont Boulevard\, Fremont\, CA\, 94538
ATTACH;FMTTYPE=image/webp:https://www.resilienteastbay.org/wp-content/uploads/Machinists-Instritute.webp
END:VEVENT
END:VCALENDAR