BEGIN:VCALENDAR
VERSION:2.0
PRODID:-//Resilient East Bay - ECPv6.15.20//NONSGML v1.0//EN
CALSCALE:GREGORIAN
METHOD:PUBLISH
X-WR-CALNAME:Resilient East Bay
X-ORIGINAL-URL:https://www.resilienteastbay.org
X-WR-CALDESC:Events for Resilient East Bay
REFRESH-INTERVAL;VALUE=DURATION:PT1H
X-Robots-Tag:noindex
X-PUBLISHED-TTL:PT1H
BEGIN:VTIMEZONE
TZID:UTC
BEGIN:STANDARD
TZOFFSETFROM:+0000
TZOFFSETTO:+0000
TZNAME:UTC
DTSTART:20240101T000000
END:STANDARD
END:VTIMEZONE
BEGIN:VTIMEZONE
TZID:Europe/Helsinki
BEGIN:DAYLIGHT
TZOFFSETFROM:+0200
TZOFFSETTO:+0300
TZNAME:EEST
DTSTART:20240331T010000
END:DAYLIGHT
BEGIN:STANDARD
TZOFFSETFROM:+0300
TZOFFSETTO:+0200
TZNAME:EET
DTSTART:20241027T010000
END:STANDARD
BEGIN:DAYLIGHT
TZOFFSETFROM:+0200
TZOFFSETTO:+0300
TZNAME:EEST
DTSTART:20250330T010000
END:DAYLIGHT
BEGIN:STANDARD
TZOFFSETFROM:+0300
TZOFFSETTO:+0200
TZNAME:EET
DTSTART:20251026T010000
END:STANDARD
BEGIN:DAYLIGHT
TZOFFSETFROM:+0200
TZOFFSETTO:+0300
TZNAME:EEST
DTSTART:20260329T010000
END:DAYLIGHT
BEGIN:STANDARD
TZOFFSETFROM:+0300
TZOFFSETTO:+0200
TZNAME:EET
DTSTART:20261025T010000
END:STANDARD
END:VTIMEZONE
BEGIN:VEVENT
DTSTART;TZID=UTC:20250121T110000
DTEND;TZID=UTC:20250121T120000
DTSTAMP:20260424T081344
CREATED:20250117T201959Z
LAST-MODIFIED:20250117T201959Z
UID:10000062-1737457200-1737460800@www.resilienteastbay.org
SUMMARY:2025 Employment Law Update: New Compliance Obligations for CA Employers
DESCRIPTION:Tuesday\, January 21\, 2025 | 11:00 AM – 12:00 PM PT\n\n\n  \nIt’s that time again! Each new calendar year\, employment law and human resources guidelines are revised. To ensure your compliance for a January 1\, 2025 effective date\, join us for an overview of what’s new in California labor laws for 2025. \nDuring this webinar\, CMTC Human Resources experts will cover the following topics: \n\nMinimum Wage\nPaid Family Leave\nSick Leave Expansion\nCaptive Audience Meetings\nRestrictions on Requiring Drivers’ Licenses for Job Openings\nRevised NLRB Rules and Increased Threat of Union Organizing\nNew Mandates for Using Vacation or PTO Before Paid Family Leave\nNew Developments in the Employee vs. Independent Contractor Status\nAnd\, much more!\n\n\n\nPlease submit the form below to register to this webinar.
URL:https://www.resilienteastbay.org/event/2025-employment-law-update-new-compliance-obligations-for-ca-employers/
ATTACH;FMTTYPE=image/png:https://www.resilienteastbay.org/wp-content/uploads/Untitled-design-4.png
END:VEVENT
BEGIN:VEVENT
DTSTART;TZID=Europe/Helsinki:20250123T090000
DTEND;TZID=Europe/Helsinki:20250123T110000
DTSTAMP:20260424T081344
CREATED:20250117T195201Z
LAST-MODIFIED:20250117T195201Z
UID:10000057-1737622800-1737630000@www.resilienteastbay.org
SUMMARY:Build America Buy America: Strategies for Success In Compliance By Iowa State University CIRAS
DESCRIPTION:Join attorney Cara Wulf\, partner at McCarter & English\, LLP\, for a webinar on the Build America Buy America Act (BABA). Discover BABA requirements\, implementation guidance\, and best practices for compliance as a prime contractor or subcontractor. Learn about BABA compliance certifications\, pitfalls to avoid\, and how BABA differs from existing Buy American requirements. \nDuring this 90 minute session\, Cara will provide valuable insights and expertise. Participants will engage in a 30-minute Q&A session to get questions answered. \nCara specializes in government contracts\, with extensive experience advising clients on compliance with the myriad of regulatory requirements that come up when doing business with the government\, and handling litigation involving bid protests and disputes. \nThis event is essential for understanding the BABA requirements and their distinctions from Buy American requirements. Don’t miss the opportunity to learn from a seasoned government contracts attorney and enhance your compliance knowledge. \nThis session is intended for industry. A special session for MEP and APEX Accelerator centers and their counterparts will be hosted on December 18\, 2024. \nFor more event details\, contact Melissa Burant at mmburant@iastate.edu.
URL:https://www.resilienteastbay.org/event/build-america-buy-america-strategies-for-success-in-compliance-by-iowa-state-university-ciras/
ATTACH;FMTTYPE=image/webp:https://www.resilienteastbay.org/wp-content/uploads/buidlamerica.webp
ORGANIZER;CN="Iowa State University CIRAS":MAILTO:mmburant@iastate.edu
LOCATION:https://www.resilienteastbay.org/event/build-america-buy-america-strategies-for-success-in-compliance-by-iowa-state-university-ciras/
END:VEVENT
BEGIN:VEVENT
DTSTART;TZID=UTC:20250123T150000
DTEND;TZID=UTC:20250123T180000
DTSTAMP:20260424T081344
CREATED:20250117T194602Z
LAST-MODIFIED:20250117T194602Z
UID:10000056-1737644400-1737655200@www.resilienteastbay.org
SUMMARY:AMBayArea Winter Forum
DESCRIPTION:The AMBayArea Winter Forum will be held on Thursday\, January 23\, 3 to 6 p.m. at NextFlex in San Jose and feature the panel discussion\, Automation for SMBs: Starting Small\, plus Empowering Small Business to Go Global with the World Trade Center Northern California.
URL:https://www.resilienteastbay.org/event/ambayarea-winter-forum/
ATTACH;FMTTYPE=image/webp:https://www.resilienteastbay.org/wp-content/uploads/AMBayAreaWinterForum2025-1-scaled-1.webp
END:VEVENT
BEGIN:VEVENT
DTSTART;VALUE=DATE:20250128
DTEND;VALUE=DATE:20250131
DTSTAMP:20260424T081344
CREATED:20250117T195756Z
LAST-MODIFIED:20250117T195756Z
UID:10000058-1738022400-1738281599@www.resilienteastbay.org
SUMMARY:DesignCon 2025: Where the Chip Meets the Board January 28 - January 30
DESCRIPTION:DesignCon is the premier high-speed communications and systems design conference and exposition\, offering industry-critical engineering education in the heart of electronics innovation — Silicon Valley. \nThe event features a 15-track conference\, 170 exhibits\, keynotes\, and networking. \nSave 15% off all conference passes and/or a free expo pass with promo code MANEX25.
URL:https://www.resilienteastbay.org/event/designcon-2025-where-the-chip-meets-the-board-january-28-january-30/
LOCATION:Santa Clara Convention Center\, 001 Great America Pkwy\, \, CA\, Santa Clara\, CA\, 95054\, United States
ATTACH;FMTTYPE=image/png:https://www.resilienteastbay.org/wp-content/uploads/desigcon.png
END:VEVENT
BEGIN:VEVENT
DTSTART;TZID=UTC:20250128T090000
DTEND;TZID=UTC:20250128T153000
DTSTAMP:20260424T081344
CREATED:20250117T200148Z
LAST-MODIFIED:20250117T200148Z
UID:10000059-1738054800-1738078200@www.resilienteastbay.org
SUMMARY:Women in Manufacturing Skilled Trades Symposium
DESCRIPTION:The Women in Manufacturing Skilled Trades Symposium is presented by Bay Area Community Colleges (BACC) and the Association of Manufacturers Bay Area (AMBayArea). The annual event focuses on best practices for recruiting women into important skilled trades careers (machining\, welding\, industrial maintenance\, electronics\, etc.).  \nJoin fellow manufacturers and educators to discuss how to recruit more women into the manufacturing skilled trades and learn best practices from speakers and panelists. This will be the beginning of a regional conversation to determine how we can improve the recruitment of women into these careers. The following are encouraged to attend: \n\nManufacturers (HR\, technical hiring managers\, and those who create company strategy for outreach and hiring)\nEducators in community colleges & K-12 schools who develop programs\, recruit students or work with students to advise on careers\nWorkforce development professionals working with clients to find new careers\n\nSave the date and watch for more details in early 2025. \nSubscribe to the newsletter for updates on WiMST and upcoming events.\nSponsored by:\nBay Area Community Colleges\nAssociation of Manufacturers Bay Area\nWorkforce Development Boards
URL:https://www.resilienteastbay.org/event/women-in-manufacturing-skilled-trades-symposium/
LOCATION:Chabot College\, 25555 Hesperian Blvd\, Hayward\, CA\, 94545\, United States
ATTACH;FMTTYPE=image/webp:https://www.resilienteastbay.org/wp-content/uploads/womens.webp
END:VEVENT
END:VCALENDAR